BEGIN:VCALENDAR
VERSION:2.0
PRODID:-//Spicas Welt - ECPv6.8.2.1//NONSGML v1.0//EN
CALSCALE:GREGORIAN
METHOD:PUBLISH
X-ORIGINAL-URL:https://spicaswelt.de
X-WR-CALDESC:Veranstaltungen für Spicas Welt
REFRESH-INTERVAL;VALUE=DURATION:PT1H
X-Robots-Tag:noindex
X-PUBLISHED-TTL:PT1H
BEGIN:VTIMEZONE
TZID:Europe/Berlin
BEGIN:DAYLIGHT
TZOFFSETFROM:+0100
TZOFFSETTO:+0200
TZNAME:CEST
DTSTART:20250330T010000
END:DAYLIGHT
BEGIN:STANDARD
TZOFFSETFROM:+0200
TZOFFSETTO:+0100
TZNAME:CET
DTSTART:20251026T010000
END:STANDARD
END:VTIMEZONE
BEGIN:VEVENT
DTSTART;TZID=Europe/Berlin:20250704T100000
DTEND;TZID=Europe/Berlin:20250706T180000
DTSTAMP:20260425T220323
CREATED:20241227T062704Z
LAST-MODIFIED:20250628T083641Z
UID:581-1751623200-1751824800@spicaswelt.de
SUMMARY:Kunsthandwerkermarkt am Strand von Hooksiel
DESCRIPTION:Kunst – Geschenke – schöne Dinge \n Wangerland  – Hooksiel –  am Strand  (Strandhaus 1) \nHier steht echtes Kunsthandwerk im Mittelpunkt – geschaffen von talentierten Künstler*innen mit Leidenschaft und Herz. \nDiese Märkte bieten ein einzigartiges Sortiment an handgefertigten Schätzen\, die mit Liebe zum Detail und viel Herzblut entstehen. Jedes Stück ist ein Unikat\, das Geschichten erzählt. \nDas sorgfältig ausgewählte Angebot macht diese Märkte zu etwas ganz Besonderem\, und ich bin stolz\, ein Teil davon zu sein. \nSchaut vorbei – wir freuen uns auf euch! \n  \nBitte die Öffnungzeiten beachten ! \nFreitag:         04. 07. 2025    12:oo  Uhr   bis  18:oo  Uhr \nSamstag:      05. 07. 2025    10:oo  Uhr   bis  18:oo  Uhr \nSonntag:       06. 07. 2025    10:oo  Uhr   bis  18:oo  Uhr \n  \n\nAnfahrt:\nSanitäranlage Strandhaus 2 (barrierefrei)\nBäderstraße\n26434 Wangerland Hooksiel
URL:https://spicaswelt.de/event/kunsthandwerkermarkt-am-strand-von-hooksiel/
LOCATION:Hooksiel    Kunst – Geschenke – schöne Sachen\, An der Werft 4\, Hooksiel-Wangerland\, Niedersachsen\, 26434
CATEGORIES:Kunst-Geschenke-schöne Sachen,Kunsthandwerkermarkt,Strand Markt
END:VEVENT
END:VCALENDAR