BEGIN:VCALENDAR
VERSION:2.0
PRODID:-//Spicas Welt - ECPv6.8.2.1//NONSGML v1.0//EN
CALSCALE:GREGORIAN
METHOD:PUBLISH
X-ORIGINAL-URL:https://spicaswelt.de
X-WR-CALDESC:Veranstaltungen für Spicas Welt
REFRESH-INTERVAL;VALUE=DURATION:PT1H
X-Robots-Tag:noindex
X-PUBLISHED-TTL:PT1H
BEGIN:VTIMEZONE
TZID:Europe/Berlin
BEGIN:DAYLIGHT
TZOFFSETFROM:+0100
TZOFFSETTO:+0200
TZNAME:CEST
DTSTART:20250330T010000
END:DAYLIGHT
BEGIN:STANDARD
TZOFFSETFROM:+0200
TZOFFSETTO:+0100
TZNAME:CET
DTSTART:20251026T010000
END:STANDARD
END:VTIMEZONE
BEGIN:VEVENT
DTSTART;TZID=Europe/Berlin:20250816T130000
DTEND;TZID=Europe/Berlin:20250816T200000
DTSTAMP:20260425T203700
CREATED:20250612T174823Z
LAST-MODIFIED:20250630T122820Z
UID:706-1755349200-1755374400@spicaswelt.de
SUMMARY:Kunst im Hangar Conneforde
DESCRIPTION:Live Musik zwischen Flugzeugen in Conneforde mit Kunsthandwerk\nErlebe die besondere Atmosphäre des Rock im Hangar 2025! Am 16. August 2025 verwandelt sich der Flugplatz Conneforde wieder in eine Bühne für rockige Beats und Livemusik unter dem Hangardach. Lass dich von den einzigartigen Klängen und der besonderen Umgebung des Flugplatzes mitreißen\, während die besten Rockbands der Region für Stimmung sorgen. \nDieses Jahr im Rahmenprogramm: Ein besonderer Kunsthandwerkermarkt mit ausgewählten Kunstschaffenden.Besucht uns vor Ort und erlebt die einzigARTige Atmosphäre des alten Hangars in Conneforde – kreativ\, inspirierend und voller Charme. \nDer Einlass zum Kunsthandwerkermarkt beginnt voraussichtlich um 14 Uhr.Bis etwa 20 Uhr könnt ihr dort stöbern\, entdecken und euch inspirieren lassen – danach feiern wir gemeinsam weiter! \nBitte informiert euch kurz vorab noch einmal über die genauen Einlasszeiten.Sollten sich Änderungen ergeben\, gebe ich sie hier rechtzeitig bekannt.\n  \n 
URL:https://spicaswelt.de/event/kunst-im-hangar-conneforde/
LOCATION:Hangar Conneforde\, Dorfstraße 8c\, Wiefelstede-Conneforde\, Niedersachsen\, 26125
CATEGORIES:Gartenmarkt,Kunsthandwerkermarkt,Speziel
END:VEVENT
END:VCALENDAR