BEGIN:VCALENDAR
VERSION:2.0
PRODID:-//Spicas Welt - ECPv6.8.2.1//NONSGML v1.0//EN
CALSCALE:GREGORIAN
METHOD:PUBLISH
X-WR-CALNAME:Spicas Welt
X-ORIGINAL-URL:https://spicaswelt.de
X-WR-CALDESC:Veranstaltungen für Spicas Welt
REFRESH-INTERVAL;VALUE=DURATION:PT1H
X-Robots-Tag:noindex
X-PUBLISHED-TTL:PT1H
BEGIN:VTIMEZONE
TZID:Europe/Berlin
BEGIN:DAYLIGHT
TZOFFSETFROM:+0100
TZOFFSETTO:+0200
TZNAME:CEST
DTSTART:20250330T010000
END:DAYLIGHT
BEGIN:STANDARD
TZOFFSETFROM:+0200
TZOFFSETTO:+0100
TZNAME:CET
DTSTART:20251026T010000
END:STANDARD
END:VTIMEZONE
BEGIN:VEVENT
DTSTART;TZID=Europe/Berlin:20250822T080000
DTEND;TZID=Europe/Berlin:20250824T170000
DTSTAMP:20260425T205144
CREATED:20241113T200357Z
LAST-MODIFIED:20250318T083546Z
UID:167-1755849600-1756054800@spicaswelt.de
SUMMARY:Kunsthandwerkermarkt Schillig \, mit Strandzugang :-)
DESCRIPTION:Wangerland  – Schillig  – \nVeranstaltungswiese auf dem Campingplatz direkt am Strand \n22. bis 24. August 2025 \nAuch 2025 sind wir wieder dabei\, wenn es direkt vor den Dünen heißt: Kunst\, Geschenke und schöne Dinge! \nAm Strand von Schillig erwarten euch viele Aussteller mit liebevoll handgefertigten Unikaten und vielen tollen Besonderheiten. \n  \nBitte die hier aufgeführten Öffnungszeiten beachten!! \nFreitags 12.00-18.00 Uhr \nSamstag + Sonntag von 10.00-18.00 Uhr \n  \nÄnderungen vorbehalten! \nKeine Gewähr! \n 
URL:https://spicaswelt.de/event/kunsthandwerkermarkt-schillig-mit-strandzugang/
LOCATION:Schillig\, Düne 1\, Schillig\, Niedersachsen\, 26434
CATEGORIES:Kunst-Geschenke-schöne Sachen,Kunsthandwerkermarkt
END:VEVENT
END:VCALENDAR