BEGIN:VCALENDAR
VERSION:2.0
PRODID:-//Spicas Welt - ECPv6.8.2.1//NONSGML v1.0//EN
CALSCALE:GREGORIAN
METHOD:PUBLISH
X-ORIGINAL-URL:https://spicaswelt.de
X-WR-CALDESC:Veranstaltungen für Spicas Welt
REFRESH-INTERVAL;VALUE=DURATION:PT1H
X-Robots-Tag:noindex
X-PUBLISHED-TTL:PT1H
BEGIN:VTIMEZONE
TZID:Europe/Berlin
BEGIN:DAYLIGHT
TZOFFSETFROM:+0100
TZOFFSETTO:+0200
TZNAME:CEST
DTSTART:20250330T010000
END:DAYLIGHT
BEGIN:STANDARD
TZOFFSETFROM:+0200
TZOFFSETTO:+0100
TZNAME:CET
DTSTART:20251026T010000
END:STANDARD
END:VTIMEZONE
BEGIN:VEVENT
DTSTART;TZID=Europe/Berlin:20250829T100000
DTEND;TZID=Europe/Berlin:20250831T180000
DTSTAMP:20260425T181729
CREATED:20241113T200643Z
LAST-MODIFIED:20250805T062617Z
UID:169-1756461600-1756663200@spicaswelt.de
SUMMARY:Kunsthandwerkermarkt Museumshafen Carolinensiel/ Umgezogen nach Harlesiel !
DESCRIPTION:Aufgrund von umbauarbeiten in Caraolinensiel findet es NICHT im Hafen statt. \nWegen den Umbauarbeiten findet der Markt in Harlesiel statt\, unweit entfernt ! \nBitte haltet euch Richtung Wattwanderzentrum / Schlafstrandkorb \nKunst – Geschenke – schöne Sachen \nLasst euch von der Vielfältigkeit der Austeller Überraschen 🙂 \n  \nBitte die hier aufgeführten Öffnungszeiten beachten!! \nFreitags 12.00-18.00 Uhr \nSamstag + Sonntag von 10.00-18.00 Uhr \nÄnderungen vorbehalten! \nKeine Gewähr! \n 
URL:https://spicaswelt.de/event/kunsthandwerkermarkt-museumshafen-carolinensiel/
LOCATION:Harlesiel Strand\, Am Harlesiel 20\, Harlesiel-Wittmund\, Niedersachsen\, 26409
CATEGORIES:Kunst-Geschenke-schöne Sachen,Kunsthandwerkermarkt
END:VEVENT
END:VCALENDAR