BEGIN:VCALENDAR
VERSION:2.0
PRODID:-//Spicas Welt - ECPv6.8.2.1//NONSGML v1.0//EN
CALSCALE:GREGORIAN
METHOD:PUBLISH
X-WR-CALNAME:Spicas Welt
X-ORIGINAL-URL:https://spicaswelt.de
X-WR-CALDESC:Veranstaltungen für Spicas Welt
REFRESH-INTERVAL;VALUE=DURATION:PT1H
X-Robots-Tag:noindex
X-PUBLISHED-TTL:PT1H
BEGIN:VTIMEZONE
TZID:Europe/Berlin
BEGIN:DAYLIGHT
TZOFFSETFROM:+0100
TZOFFSETTO:+0200
TZNAME:CEST
DTSTART:20250330T010000
END:DAYLIGHT
BEGIN:STANDARD
TZOFFSETFROM:+0200
TZOFFSETTO:+0100
TZNAME:CET
DTSTART:20251026T010000
END:STANDARD
END:VTIMEZONE
BEGIN:VEVENT
DTSTART;TZID=Europe/Berlin:20250928T100000
DTEND;TZID=Europe/Berlin:20250928T180000
DTSTAMP:20260425T220650
CREATED:20241113T201223Z
LAST-MODIFIED:20241128T075942Z
UID:174-1759053600-1759082400@spicaswelt.de
SUMMARY:Bauern- und Handwerkermarkt Gehlenberg
DESCRIPTION:Die Dorfgemeinschaft Gehlenberg lädt wieder zum Bauern- und Handwerkermarkt auf dem Mühlenberg ein.  \nZahlreiche Stände und Attraktionen wird es dort geben. \nSonntag von 10-18 Uhr \nÄnderungen vorbehalten! \nKeine Gewähr!
URL:https://spicaswelt.de/event/bauern-und-handwerkermarkt-gehlenberg/
LOCATION:Gehlenberg Kulturzentrum\, Mühlenstraße 5\, Gehlenberg\, Niedersachsen\, 26169
CATEGORIES:Handwerker und Brauchtumsmarkt,Kunsthandwerkermarkt
END:VEVENT
END:VCALENDAR