BEGIN:VCALENDAR
VERSION:2.0
PRODID:-//Spicas Welt - ECPv6.8.2.1//NONSGML v1.0//EN
CALSCALE:GREGORIAN
METHOD:PUBLISH
X-WR-CALNAME:Spicas Welt
X-ORIGINAL-URL:https://spicaswelt.de
X-WR-CALDESC:Veranstaltungen für Spicas Welt
REFRESH-INTERVAL;VALUE=DURATION:PT1H
X-Robots-Tag:noindex
X-PUBLISHED-TTL:PT1H
BEGIN:VTIMEZONE
TZID:Europe/Berlin
BEGIN:DAYLIGHT
TZOFFSETFROM:+0100
TZOFFSETTO:+0200
TZNAME:CEST
DTSTART:20250330T010000
END:DAYLIGHT
BEGIN:STANDARD
TZOFFSETFROM:+0200
TZOFFSETTO:+0100
TZNAME:CET
DTSTART:20251026T010000
END:STANDARD
END:VTIMEZONE
BEGIN:VEVENT
DTSTART;TZID=Europe/Berlin:20251213T130000
DTEND;TZID=Europe/Berlin:20251214T190000
DTSTAMP:20260426T030949
CREATED:20250906T064441Z
LAST-MODIFIED:20251203T205523Z
UID:775-1765630800-1765738800@spicaswelt.de
SUMMARY:Lüttje Greetmer Wiehnachtsmarkt
DESCRIPTION:Lüttje Greetmer PlakatLüttje Greetmer Wiehnachtsmarkt \nAm 2. und 3. Adventswochenende findet in Greetsiel auf dem Marktplatz der traditionelle „Lüttje Greetmer Wiehnachtsmarkt“ statt. \n\nWir werden am 2 und 3. Adventswochenende dabei sein. \n\nSeit 1994 findet der Lüttje Greetmer Wiehnachtsmarkt auf dem Greetsieler Marktplatz statt und wird von den Greetsieler Vereinen und Organisationen in Zusammenarbeit mit der Interessengemeinschaft zur Förderung Greetsiels veranstaltet. Vorweihnachtliche Stimmung wird im kleinen Ort herrschen\, kleine Lichterketten ziehen sich durch die Bäume\, der große Weihnachtsbaum am Alten Siel sowie die Weihnachtsbäume an den Ortseingängen werden mit roten Schleifen geschmückt\, kleine Tannenbäume stehen vor den Geschäften im Ortskern. In mehreren Holzbuden auf dem Marktplatz am Alten Siel werden den Besuchern jeweils von 13:00 -19:00 Uhr neben Glühwein\, Punsch\, Berliner\, Bratwurst und Räucherfisch die unterschiedlichsten Bastelartikel und Geschenkideen angeboten.
URL:https://spicaswelt.de/event/luettje-greetmer-wiehnachtsmarkt/
LOCATION:Greetsiel Lüttje Greetmer Wiehnachtsmarkt\, Am Markt\, Greetsiel\, Niedersachsen\, 26736\, Germany
CATEGORIES:Kunsthandwerkermarkt,Speziel,Weihnachtsmarkt
END:VEVENT
END:VCALENDAR