BEGIN:VCALENDAR
VERSION:2.0
PRODID:-//Spicas Welt - ECPv6.8.2.1//NONSGML v1.0//EN
CALSCALE:GREGORIAN
METHOD:PUBLISH
X-WR-CALNAME:Spicas Welt
X-ORIGINAL-URL:https://spicaswelt.de
X-WR-CALDESC:Veranstaltungen für Spicas Welt
REFRESH-INTERVAL;VALUE=DURATION:PT1H
X-Robots-Tag:noindex
X-PUBLISHED-TTL:PT1H
BEGIN:VTIMEZONE
TZID:Europe/Berlin
BEGIN:DAYLIGHT
TZOFFSETFROM:+0100
TZOFFSETTO:+0200
TZNAME:CEST
DTSTART:20250330T010000
END:DAYLIGHT
BEGIN:STANDARD
TZOFFSETFROM:+0200
TZOFFSETTO:+0100
TZNAME:CET
DTSTART:20251026T010000
END:STANDARD
END:VTIMEZONE
BEGIN:VEVENT
DTSTART;TZID=Europe/Berlin:20250531T110000
DTEND;TZID=Europe/Berlin:20250601T180000
DTSTAMP:20260425T220213
CREATED:20241227T061312Z
LAST-MODIFIED:20241227T061312Z
UID:575-1748689200-1748800800@spicaswelt.de
SUMMARY:Burggarten Stickhausen 2025
DESCRIPTION:Der Burggarten Stickhausen hat sich in den vergangenen Jahren als ostfriesischer Gartenmarkt etabliert und lockt Gartenfreunde aus nah und fern in die historische Burganlage an der Jümme. \nSeit vielen Jahren treffen sich Gartenfreunde am Fuße der aus dem 15. Jahrhundert stammenden Wehranlage des kleinen ostfriesischen Dorfes. Der Gartenmarkt mit Niveau und Flair ist mit mehr als 10.000 Besuchern längst eine feste Größe im Nordwesten. Die Gäste können sich wieder auf ein farbenfrohes Fest für die Sinne freuen\, wenn sich die schweren hölzernen Eingangspforten zum Burggelände öffnen. \nAuch wir dürfen 2025 wieder dabei sein und freuensehr darüber\, da dieser Markt doch immer ganz besonders ist. \nBitte die Öffnungzeiten beachten ! \nSonnabend\, 31. Mai 2025 von 11 bis 18 Uhr\nund Sonntag\, 01. Juni 2025 von 11 bis 18 Uhr
URL:https://spicaswelt.de/event/burggarten-stickhausen-2025/
LOCATION:Burggarten Stickhausen\, Burgstraße 3\, Detern\, Niedersachsen\, 26847
CATEGORIES:Gartenmarkt,Kunsthandwerkermarkt,Landpartie
END:VEVENT
BEGIN:VEVENT
DTSTART;TZID=Europe/Berlin:20250615T100000
DTEND;TZID=Europe/Berlin:20250615T170000
DTSTAMP:20260425T220213
CREATED:20250224T060205Z
LAST-MODIFIED:20250224T060205Z
UID:654-1749981600-1750006800@spicaswelt.de
SUMMARY:14. Norder Rosenmarkt
DESCRIPTION:Der Rosenmarkt auf dem Norder Marktplatz hat sich im Laufe der Jahre zu einer vielseitigen Veranstaltung rund um das Thema „Natur und Garten“ entwickelt. Es ist nicht nur die Rose\, die die Besucherinnen und Besucher in das Norder Zentrum lockt\, sondern auch das Ambiente und die traumhafte schöne Kulisse\, derer sich der Markt bedienen darf. \nDas breite Warenangebot reichte unter anderem von den verschiedensten Beipflanzen sowie weiteren Blumen\, Stauden und Sträuchern in den vielfältigsten Formen\, das Angebot von Gartengeräten und Möbel für den Außenbereich\, sowie Accessoires\, Kunsthandwerk für den Garten bis hin zu allem\, was mit dem Thema „Garten und Natur“ zu tun hatte. \nDamit die Besucherinnen und Besucher die Stimmung der Veranstaltung genießen konnten in dem ganz besonderen Flair auf diesem einzigartigen grünen Marktplatz mit seinem grünen Blätterdach gab es auch in diesem Jahr wieder die Möglichkeit\, gemütlich Kaffee oder Tee zu trinken und ein Stück Kuchen zu essen. \nWir dürfen mit unserem Stand auch wieder dabei sein. \n  \n15.06.2025  von 10 Uhr – 17 Uhr auf dem Norder Markplatz
URL:https://spicaswelt.de/event/14-norder-rosenmarkt/
LOCATION:Norden Nörder Wiehnacht\, Marktplatz\, Norden\, Niedersachsen\, 26506
CATEGORIES:Gartenmarkt,Kunsthandwerkermarkt,Verkaufsoffner Sonntag
END:VEVENT
BEGIN:VEVENT
DTSTART;TZID=Europe/Berlin:20250621T100000
DTEND;TZID=Europe/Berlin:20250622T180000
DTSTAMP:20260425T220213
CREATED:20250222T131107Z
LAST-MODIFIED:20250222T131107Z
UID:649-1750500000-1750615200@spicaswelt.de
SUMMARY:Tag des offenen Gartens in der Waldblume Schoost
DESCRIPTION:Cordula Staack hat sich in Schoost auf ihrem Hof mit der „Waldblume“ selbstständig gemacht. \nWer ihren spektakulären Garten kennt\, weiß: Der Begriff „Blumenladen“ wird diesem besonderen Ort nicht ganz gerecht… \nIn einer alten Scheune und Sattelkammer geht die gelernte Gartenbau-Ingenieurin neue kreative Wege. \nDie Tage des offenen Gartens bei Familie Staack  sind ein echtes Highlight. \nTag der offenen Gärten📅 21. + 22. Juni | ⏰ 10 – 18 Uhr \nAm Tag der offenen Gärten lädt Fam. Staack euch in ihr kleines Paradies ein. \nAuch wir sind mit einigen anderen Ausstellern dabei und freuen uns darauf\, euch in diesem wunderschönen Garten unsere handgemachten Produkte zu präsentieren. \nVor zwei Jahren durften wir bereits Teil dieses besonderen Events sein. \nUmso mehr freuen wir uns\, dass es dieses Jahr zeitlich noch einmal klappt und wir wieder dabei sein können! \nKohltun 46 \n26419 Schortens
URL:https://spicaswelt.de/event/tag-des-offenen-gartens-in-der-waldblume-schoost/
LOCATION:Waldblume\, Kohltun 46\, Schortens\, Niedersachsen\, 26419
CATEGORIES:Gartenmarkt,Kunsthandwerkermarkt,Landpartie,Tag des offenen Gartens
END:VEVENT
END:VCALENDAR