BEGIN:VCALENDAR
VERSION:2.0
PRODID:-//Spicas Welt - ECPv6.8.2.1//NONSGML v1.0//EN
CALSCALE:GREGORIAN
METHOD:PUBLISH
X-WR-CALNAME:Spicas Welt
X-ORIGINAL-URL:https://spicaswelt.de
X-WR-CALDESC:Veranstaltungen für Spicas Welt
REFRESH-INTERVAL;VALUE=DURATION:PT1H
X-Robots-Tag:noindex
X-PUBLISHED-TTL:PT1H
BEGIN:VTIMEZONE
TZID:Europe/Berlin
BEGIN:DAYLIGHT
TZOFFSETFROM:+0100
TZOFFSETTO:+0200
TZNAME:CEST
DTSTART:20250330T010000
END:DAYLIGHT
BEGIN:STANDARD
TZOFFSETFROM:+0200
TZOFFSETTO:+0100
TZNAME:CET
DTSTART:20251026T010000
END:STANDARD
END:VTIMEZONE
BEGIN:VEVENT
DTSTART;TZID=Europe/Berlin:20250704T100000
DTEND;TZID=Europe/Berlin:20250706T180000
DTSTAMP:20260425T204102
CREATED:20241227T062704Z
LAST-MODIFIED:20250628T083641Z
UID:581-1751623200-1751824800@spicaswelt.de
SUMMARY:Kunsthandwerkermarkt am Strand von Hooksiel
DESCRIPTION:Kunst – Geschenke – schöne Dinge \n Wangerland  – Hooksiel –  am Strand  (Strandhaus 1) \nHier steht echtes Kunsthandwerk im Mittelpunkt – geschaffen von talentierten Künstler*innen mit Leidenschaft und Herz. \nDiese Märkte bieten ein einzigartiges Sortiment an handgefertigten Schätzen\, die mit Liebe zum Detail und viel Herzblut entstehen. Jedes Stück ist ein Unikat\, das Geschichten erzählt. \nDas sorgfältig ausgewählte Angebot macht diese Märkte zu etwas ganz Besonderem\, und ich bin stolz\, ein Teil davon zu sein. \nSchaut vorbei – wir freuen uns auf euch! \n  \nBitte die Öffnungzeiten beachten ! \nFreitag:         04. 07. 2025    12:oo  Uhr   bis  18:oo  Uhr \nSamstag:      05. 07. 2025    10:oo  Uhr   bis  18:oo  Uhr \nSonntag:       06. 07. 2025    10:oo  Uhr   bis  18:oo  Uhr \n  \n\nAnfahrt:\nSanitäranlage Strandhaus 2 (barrierefrei)\nBäderstraße\n26434 Wangerland Hooksiel
URL:https://spicaswelt.de/event/kunsthandwerkermarkt-am-strand-von-hooksiel/
LOCATION:Hooksiel    Kunst – Geschenke – schöne Sachen\, An der Werft 4\, Hooksiel-Wangerland\, Niedersachsen\, 26434
CATEGORIES:Kunst-Geschenke-schöne Sachen,Kunsthandwerkermarkt,Strand Markt
END:VEVENT
BEGIN:VEVENT
DTSTART;TZID=Europe/Berlin:20250718T110000
DTEND;TZID=Europe/Berlin:20250720T190000
DTSTAMP:20260425T204102
CREATED:20250318T083203Z
LAST-MODIFIED:20250719T015224Z
UID:679-1752836400-1753038000@spicaswelt.de
SUMMARY:Friesenfetival Wangerland 2025
DESCRIPTION:Partystimmung vom 18. – 20. Juli 2025 \n\n\nEin Highlight für Friesland-Fans! Im Juli verwandelt sich der Strand von Schillig wieder in ein ganz typisch nordisches Festival-Gelände. Live-Musik spielt\, die Essensstände vertreiben einem die Zeit in der Sonne und zum stöbern und schnacken laden verschiedene Stände und Buden ein. Das Festival bietet ein vielfältiges Programm! \nAuch einige Kunsthandwerker werden vor Ort Ihre Werke präsentieren. 🙂 \nSpicas Welt ist diese Jahr mit dabei 🙂 \nWir sind vor Ort für euch da: \nFreitag\, 18.07.25\, 14-19 Uhr \nSamstag\, 19.07.25\, 11-19 Uhr \nSonntag\, 20.07.25\, 12-18 Uhr \n\nweiter Infos zum Festival unter: \nhttps://www.wangerland.de/veranstaltungen-1/friesenfestival \n 
URL:https://spicaswelt.de/event/friesenfetival-wangerland-2025/
LOCATION:Schillig\, Düne 1\, Schillig\, Niedersachsen\, 26434
END:VEVENT
BEGIN:VEVENT
DTSTART;TZID=Europe/Berlin:20250725T100000
DTEND;TZID=Europe/Berlin:20250727T180000
DTSTAMP:20260425T204102
CREATED:20241113T195910Z
LAST-MODIFIED:20241128T080246Z
UID:162-1753437600-1753639200@spicaswelt.de
SUMMARY:Kunst und Handwerkermarkt Esens-Kirchplatz
DESCRIPTION:Auf dem wunderschön gelegenen Kirchplatz der St.- Magnus Kirche in Esens Innenstadt findet der Markt statt \n  \nSucht ihr einzigartige Geschenke oder möchtet euch selbst einfach mal etwas Gutes tun? \nDann seid ihr auf dem Kunst- und Handwerksmarkt „Kunst\, Geschenke und schöne Sachen“ genau richtig. \nHier findet ihr handgemachte Produkte\, die es sonst so nirgendwo zu kaufen gibt. \nAusgewählte Kunsthandwerker präsentieren ihre liebevoll hergestellten Unikate. \nLernt uns und unsere Produkte kennen – alles in Handarbeit gefertigt. \nWir freuen uns auf euch! \n  \nBitte die hier aufgeführten Öffnungszeiten beachten!! \nFreitags 12.00-18.00 Uhr \nSamstag + Sonntag von 10.00-18.00 Uhr \nÄnderungen vorbehalten! \nKeine Gewähr!
URL:https://spicaswelt.de/event/kunst-und-handwerkermarkt-esens-kirchplatz/
LOCATION:Esens\, Kirchplatz\, Esens\, Niedersachsen\, 26427
CATEGORIES:Kunst-Geschenke-schöne Sachen,Kunsthandwerkermarkt
END:VEVENT
END:VCALENDAR